BEGIN:VCALENDAR
VERSION:2.0
PRODID:-//Sebastian Daily - ECPv6.15.20//NONSGML v1.0//EN
CALSCALE:GREGORIAN
METHOD:PUBLISH
X-WR-CALNAME:Sebastian Daily
X-ORIGINAL-URL:https://www.sebastiandaily.com
X-WR-CALDESC:Events for Sebastian Daily
REFRESH-INTERVAL;VALUE=DURATION:PT1H
X-Robots-Tag:noindex
X-PUBLISHED-TTL:PT1H
BEGIN:VTIMEZONE
TZID:America/New_York
BEGIN:DAYLIGHT
TZOFFSETFROM:-0500
TZOFFSETTO:-0400
TZNAME:EDT
DTSTART:20250309T070000
END:DAYLIGHT
BEGIN:STANDARD
TZOFFSETFROM:-0400
TZOFFSETTO:-0500
TZNAME:EST
DTSTART:20251102T060000
END:STANDARD
BEGIN:DAYLIGHT
TZOFFSETFROM:-0500
TZOFFSETTO:-0400
TZNAME:EDT
DTSTART:20260308T070000
END:DAYLIGHT
BEGIN:STANDARD
TZOFFSETFROM:-0400
TZOFFSETTO:-0500
TZNAME:EST
DTSTART:20261101T060000
END:STANDARD
BEGIN:DAYLIGHT
TZOFFSETFROM:-0500
TZOFFSETTO:-0400
TZNAME:EDT
DTSTART:20270314T070000
END:DAYLIGHT
BEGIN:STANDARD
TZOFFSETFROM:-0400
TZOFFSETTO:-0500
TZNAME:EST
DTSTART:20271107T060000
END:STANDARD
END:VTIMEZONE
BEGIN:VEVENT
DTSTART;TZID=America/New_York:20260127T180000
DTEND;TZID=America/New_York:20260127T200000
DTSTAMP:20260425T063017
CREATED:20250326T195937Z
LAST-MODIFIED:20260421T013327Z
UID:10010914-1769536800-1769544000@www.sebastiandaily.com
SUMMARY:Trivia at Capt Hirams Resort (Ramp Lounge)
DESCRIPTION:Capt Hiram Resort host trivia on Tuesday’s from 6:00 pm – 8:00 pm in their Ramp Lounge.
URL:https://www.sebastiandaily.com/calendar/trivia-at-capt-hirams-resort-ramp-lounge-3/2026-01-27/
LOCATION:Capt Hirams Resort in Sebastian\, Florida\, 1606 Indian River Dr\, Sebastian\, FL\, 32958\, United States
ATTACH;FMTTYPE=image/jpeg:https://www.sebastiandaily.com/wp-content/uploads/2025/01/trivia-Capt-Hirams-e1735919115912.jpeg
GEO:27.8235986;-80.4715431
X-APPLE-STRUCTURED-LOCATION;VALUE=URI;X-ADDRESS=Capt Hirams Resort in Sebastian Florida 1606 Indian River Dr Sebastian FL 32958 United States;X-APPLE-RADIUS=500;X-TITLE=1606 Indian River Dr:geo:-80.4715431,27.8235986
END:VEVENT
BEGIN:VEVENT
DTSTART;TZID=America/New_York:20260127T160000
DTEND;TZID=America/New_York:20260127T190000
DTSTAMP:20260425T063017
CREATED:20251227T171020Z
LAST-MODIFIED:20251227T171020Z
UID:10010947-1769529600-1769540400@www.sebastiandaily.com
SUMMARY:Jutt Huffman Solo at Capt Hirams Resort (Sandbar)
DESCRIPTION:Jutt Huffman will perform at Capt Hirams Resort (Sandbar) on Tuesday\, January 27\, 2026\, from 4:00 pm – 7:00 pm.
URL:https://www.sebastiandaily.com/calendar/jutt-huffman-solo-at-capt-hirams-resort-sandbar-2/
LOCATION:Captain Hirams Sandbar\, 1580 US-1\, Sebastian\, FL\, 32958\, United States
ATTACH;FMTTYPE=image/jpeg:https://www.sebastiandaily.com/wp-content/uploads/2023/12/Jutt-Huffman-e1724346943109.jpeg
GEO:27.8229392;-80.4724989
X-APPLE-STRUCTURED-LOCATION;VALUE=URI;X-ADDRESS=Captain Hirams Sandbar 1580 US-1 Sebastian FL 32958 United States;X-APPLE-RADIUS=500;X-TITLE=1580 US-1:geo:-80.4724989,27.8229392
END:VEVENT
BEGIN:VEVENT
DTSTART;TZID=America/New_York:20260126T180000
DTEND;TZID=America/New_York:20260126T220000
DTSTAMP:20260425T063017
CREATED:20250213T194305Z
LAST-MODIFIED:20260402T231415Z
UID:10011140-1769450400-1769464800@www.sebastiandaily.com
SUMMARY:Open Jam Night at Tiki Bar & Grill
DESCRIPTION:Tiki Bar & Grill will have Open Jam Night on Monday’s from 6:00 pm – 10:00 pm.
URL:https://www.sebastiandaily.com/calendar/open-jam-night-at-tiki-bar-grill-2/2026-01-26/
LOCATION:Tiki Bar & Grill in Sebastian\, Florida\, 1109 Indian River Dr\, Sebastian\, FL\, 32958\, United States
ATTACH;FMTTYPE=image/jpeg:https://www.sebastiandaily.com/wp-content/uploads/2016/10/sebastian-tikibargrill.jpg
GEO:27.8159468;-80.4674811
X-APPLE-STRUCTURED-LOCATION;VALUE=URI;X-ADDRESS=Tiki Bar & Grill in Sebastian Florida 1109 Indian River Dr Sebastian FL 32958 United States;X-APPLE-RADIUS=500;X-TITLE=1109 Indian River Dr:geo:-80.4674811,27.8159468
END:VEVENT
BEGIN:VEVENT
DTSTART;TZID=America/New_York:20260126T160000
DTEND;TZID=America/New_York:20260126T190000
DTSTAMP:20260425T063017
CREATED:20251227T152702Z
LAST-MODIFIED:20251227T170756Z
UID:10010910-1769443200-1769454000@www.sebastiandaily.com
SUMMARY:Julia Adkins at Capt Hirams Resort (Sandbar)
DESCRIPTION:Julia Adkins will perform at Capt Hirams Resort (Sandbar) on Monday\, January 26\, 2026\, from 4:00 pm – 7:00 pm.
URL:https://www.sebastiandaily.com/calendar/bob-hughes-at-capt-hirams-resort-sandbar-2/
LOCATION:Captain Hirams Sandbar\, 1580 US-1\, Sebastian\, FL\, 32958\, United States
ATTACH;FMTTYPE=image/jpeg:https://www.sebastiandaily.com/wp-content/uploads/2025/07/Julia-Adkins-2-e1753710704283.jpeg
GEO:27.8229392;-80.4724989
X-APPLE-STRUCTURED-LOCATION;VALUE=URI;X-ADDRESS=Captain Hirams Sandbar 1580 US-1 Sebastian FL 32958 United States;X-APPLE-RADIUS=500;X-TITLE=1580 US-1:geo:-80.4724989,27.8229392
END:VEVENT
BEGIN:VEVENT
DTSTART;TZID=America/New_York:20260125T160000
DTEND;TZID=America/New_York:20260125T190000
DTSTAMP:20260425T063017
CREATED:20251227T170526Z
LAST-MODIFIED:20260125T163850Z
UID:10010946-1769356800-1769367600@www.sebastiandaily.com
SUMMARY:Travis Daigle at Capt Hirams Resort (Sandbar)
DESCRIPTION:Travis Daigle will perform at Capt Hirams Resort (Sandbar) on January 25\, 2025\, from 4:00 pm – 7:00 pm.
URL:https://www.sebastiandaily.com/calendar/sass-duo-at-capt-hirams-resort-sandbar-8/
LOCATION:Captain Hirams Sandbar\, 1580 US-1\, Sebastian\, FL\, 32958\, United States
ATTACH;FMTTYPE=image/jpeg:https://www.sebastiandaily.com/wp-content/uploads/2025/12/Travis-Daigle-1-e1769359087716.jpeg
GEO:27.8229392;-80.4724989
X-APPLE-STRUCTURED-LOCATION;VALUE=URI;X-ADDRESS=Captain Hirams Sandbar 1580 US-1 Sebastian FL 32958 United States;X-APPLE-RADIUS=500;X-TITLE=1580 US-1:geo:-80.4724989,27.8229392
END:VEVENT
BEGIN:VEVENT
DTSTART;TZID=America/New_York:20260125T150000
DTEND;TZID=America/New_York:20260125T190000
DTSTAMP:20260425T063017
CREATED:20260122T005831Z
LAST-MODIFIED:20260122T005832Z
UID:10010906-1769353200-1769367600@www.sebastiandaily.com
SUMMARY:NFL Game Day at Capt Hirams Resort
DESCRIPTION:Capt Hirams Resort will host NFL Game Day on Sundays from 3:00 pm – 7:00 pm.
URL:https://www.sebastiandaily.com/calendar/nfl-game-day-at-capt-hirams-resort-2/
LOCATION:Captain Hirams Sandbar\, 1580 US-1\, Sebastian\, FL\, 32958\, United States
ATTACH;FMTTYPE=image/jpeg:https://www.sebastiandaily.com/wp-content/uploads/2023/09/football-e1759157018490.jpg
GEO:27.8229392;-80.4724989
X-APPLE-STRUCTURED-LOCATION;VALUE=URI;X-ADDRESS=Captain Hirams Sandbar 1580 US-1 Sebastian FL 32958 United States;X-APPLE-RADIUS=500;X-TITLE=1580 US-1:geo:-80.4724989,27.8229392
END:VEVENT
BEGIN:VEVENT
DTSTART;TZID=America/New_York:20260125T140000
DTEND;TZID=America/New_York:20260125T170000
DTSTAMP:20260425T063017
CREATED:20251231T144724Z
LAST-MODIFIED:20251231T144724Z
UID:10011252-1769349600-1769360400@www.sebastiandaily.com
SUMMARY:The Leafy Greens at Tiki Bar & Grill
DESCRIPTION:The Leafy Greens will perform at Tiki Bar & Grill on Sunday\, January 25\, 2025\, from 2:00 pm – 5:00 pm.
URL:https://www.sebastiandaily.com/calendar/the-leafy-greens-at-tiki-bar-grill-2/
LOCATION:Tiki Bar & Grill in Sebastian\, Florida\, 1109 Indian River Dr\, Sebastian\, FL\, 32958\, United States
ATTACH;FMTTYPE=image/jpeg:https://www.sebastiandaily.com/wp-content/uploads/2023/11/leafy-greens-e1712329939903.jpg
GEO:27.8159468;-80.4674811
X-APPLE-STRUCTURED-LOCATION;VALUE=URI;X-ADDRESS=Tiki Bar & Grill in Sebastian Florida 1109 Indian River Dr Sebastian FL 32958 United States;X-APPLE-RADIUS=500;X-TITLE=1109 Indian River Dr:geo:-80.4674811,27.8159468
END:VEVENT
BEGIN:VEVENT
DTSTART;TZID=America/New_York:20260124T193000
DTEND;TZID=America/New_York:20260124T223000
DTSTAMP:20260425T063017
CREATED:20251227T165028Z
LAST-MODIFIED:20251227T165028Z
UID:10010941-1769283000-1769293800@www.sebastiandaily.com
SUMMARY:Lounge Lyzrds at Capt Hirams Resort (Sandbar)
DESCRIPTION:Lounge Lyzrds will perform at Capt Hirams Resort (Sandbar) on Saturday\, January 24\, 2026\, 7:30 pm – 10:30 pm.
URL:https://www.sebastiandaily.com/calendar/lounge-lyzrds-at-capt-hirams-resort-sandbar/
LOCATION:Captain Hirams Sandbar\, 1580 US-1\, Sebastian\, FL\, 32958\, United States
ATTACH;FMTTYPE=image/jpeg:https://www.sebastiandaily.com/wp-content/uploads/2025/12/Lounge-Lyzrds-e1766854157316.jpeg
GEO:27.8229392;-80.4724989
X-APPLE-STRUCTURED-LOCATION;VALUE=URI;X-ADDRESS=Captain Hirams Sandbar 1580 US-1 Sebastian FL 32958 United States;X-APPLE-RADIUS=500;X-TITLE=1580 US-1:geo:-80.4724989,27.8229392
END:VEVENT
BEGIN:VEVENT
DTSTART;TZID=America/New_York:20260124T190000
DTEND;TZID=America/New_York:20260124T220000
DTSTAMP:20260425T063017
CREATED:20251231T162309Z
LAST-MODIFIED:20251231T162309Z
UID:10011275-1769281200-1769292000@www.sebastiandaily.com
SUMMARY:Galaxy at Tiki Bar & Grill
DESCRIPTION:Galaxy will perform at Tiki Bar & Grill on Saturday\, January 24\, 2026\, from 7:00 pm – 10:00 pm.
URL:https://www.sebastiandaily.com/calendar/galaxy-at-tiki-bar-grill/
LOCATION:Tiki Bar & Grill in Sebastian\, Florida\, 1109 Indian River Dr\, Sebastian\, FL\, 32958\, United States
ATTACH;FMTTYPE=image/jpeg:https://www.sebastiandaily.com/wp-content/uploads/2023/12/Galaxy--e1738096797937.jpeg
GEO:27.8159468;-80.4674811
X-APPLE-STRUCTURED-LOCATION;VALUE=URI;X-ADDRESS=Tiki Bar & Grill in Sebastian Florida 1109 Indian River Dr Sebastian FL 32958 United States;X-APPLE-RADIUS=500;X-TITLE=1109 Indian River Dr:geo:-80.4674811,27.8159468
END:VEVENT
BEGIN:VEVENT
DTSTART;TZID=America/New_York:20260124T150000
DTEND;TZID=America/New_York:20260124T190000
DTSTAMP:20260425T063017
CREATED:20251227T163102Z
LAST-MODIFIED:20251227T163102Z
UID:10010936-1769266800-1769281200@www.sebastiandaily.com
SUMMARY:Allen Wronko at Capt Hirams Resort (Sandbar)
DESCRIPTION:Allen Wronko will perform at Capt Hirams Resort (Sandbar) on Saturday\, January 24\, 2026\, 3:00 pm – 7:00 pm.
URL:https://www.sebastiandaily.com/calendar/allen-wronko-at-capt-hirams-resort-sandbar-7/
LOCATION:Captain Hirams Sandbar\, 1580 US-1\, Sebastian\, FL\, 32958\, United States
ATTACH;FMTTYPE=image/jpeg:https://www.sebastiandaily.com/wp-content/uploads/2024/07/Allen-Wronko-e1722477110787.jpeg
GEO:27.8229392;-80.4724989
X-APPLE-STRUCTURED-LOCATION;VALUE=URI;X-ADDRESS=Captain Hirams Sandbar 1580 US-1 Sebastian FL 32958 United States;X-APPLE-RADIUS=500;X-TITLE=1580 US-1:geo:-80.4724989,27.8229392
END:VEVENT
BEGIN:VEVENT
DTSTART;TZID=America/New_York:20260124T130000
DTEND;TZID=America/New_York:20260124T183000
DTSTAMP:20260425T063017
CREATED:20250815T154756Z
LAST-MODIFIED:20251228T153554Z
UID:10010309-1769259600-1769279400@www.sebastiandaily.com
SUMMARY:Deadfest at Pareidolia Brewing Company
DESCRIPTION:Pareidolia Brewing Company will be hosting its Annual Deadfest on Saturday\, January 24\, 2026\, from 1:00 pm – 6:30 pm with Stella Blue and Mondo Tikis.
URL:https://www.sebastiandaily.com/calendar/deadfest-at-pareidolia-brewing-company/
LOCATION:Pareidolia Brewing Company\, 712 Cleveland Street\, Sebastian\, FL\, 32958\, United States
ATTACH;FMTTYPE=image/jpeg:https://www.sebastiandaily.com/wp-content/uploads/2024/10/stella-blue-e1766936140186.jpg
GEO:27.8107101;-80.4658736
X-APPLE-STRUCTURED-LOCATION;VALUE=URI;X-ADDRESS=Pareidolia Brewing Company 712 Cleveland Street Sebastian FL 32958 United States;X-APPLE-RADIUS=500;X-TITLE=712 Cleveland Street:geo:-80.4658736,27.8107101
END:VEVENT
END:VCALENDAR